BEGIN:VCALENDAR
VERSION:2.0
PRODID:-//ProHow &ndash; Kokemus k&auml;ytt&ouml;&ouml;n - ECPv6.15.20//NONSGML v1.0//EN
CALSCALE:GREGORIAN
METHOD:PUBLISH
X-WR-CALNAME:ProHow &ndash; Kokemus k&auml;ytt&ouml;&ouml;n
X-ORIGINAL-URL:https://www.prohow.fi
X-WR-CALDESC:Tapahtumat ProHow &ndash; Kokemus k&auml;ytt&ouml;&ouml;n
REFRESH-INTERVAL;VALUE=DURATION:PT1H
X-Robots-Tag:noindex
X-PUBLISHED-TTL:PT1H
BEGIN:VTIMEZONE
TZID:Europe/Helsinki
BEGIN:DAYLIGHT
TZOFFSETFROM:+0200
TZOFFSETTO:+0300
TZNAME:EEST
DTSTART:20230326T010000
END:DAYLIGHT
BEGIN:STANDARD
TZOFFSETFROM:+0300
TZOFFSETTO:+0200
TZNAME:EET
DTSTART:20231029T010000
END:STANDARD
BEGIN:DAYLIGHT
TZOFFSETFROM:+0200
TZOFFSETTO:+0300
TZNAME:EEST
DTSTART:20240331T010000
END:DAYLIGHT
BEGIN:STANDARD
TZOFFSETFROM:+0300
TZOFFSETTO:+0200
TZNAME:EET
DTSTART:20241027T010000
END:STANDARD
BEGIN:DAYLIGHT
TZOFFSETFROM:+0200
TZOFFSETTO:+0300
TZNAME:EEST
DTSTART:20250330T010000
END:DAYLIGHT
BEGIN:STANDARD
TZOFFSETFROM:+0300
TZOFFSETTO:+0200
TZNAME:EET
DTSTART:20251026T010000
END:STANDARD
END:VTIMEZONE
BEGIN:VEVENT
DTSTART;TZID=Europe/Helsinki:20240425T093000
DTEND;TZID=Europe/Helsinki:20240425T120000
DTSTAMP:20260420T050820
CREATED:20240307T125832Z
LAST-MODIFIED:20240423T082915Z
UID:5720-1714037400-1714046400@www.prohow.fi
SUMMARY:Viikkokokous #638 Palkkio- ja Ansio+ palveluiden esittely
DESCRIPTION:Akavalaisille liitoille kevytyrittäjäpalveluita tarjoavan Anspalkkio Oy:n toimitusjohtaja Kari Vavuli esittelee Akavalaisten liittojen jäsenille tarjottavia Ansio ja Palkkio+ kevytyrittäjäpalveluita etänä. Kokouspaikkana on tallä kertaa Sellon kirjaston Akseli-sali.
URL:https://www.prohow.fi/tapahtuma/mahdollisesti-luontoretki-koska-sellon-elina-ei-saatavilla/
LOCATION:Sellon kirjasto\, Akseli-sali 2.krs\, Leppävaarankatu 9\, Espoo\, Suomi
CATEGORIES:Kalenteri
END:VEVENT
END:VCALENDAR