BEGIN:VCALENDAR
VERSION:2.0
PRODID:-//ProHow &ndash; Kokemus k&auml;ytt&ouml;&ouml;n - ECPv6.15.20//NONSGML v1.0//EN
CALSCALE:GREGORIAN
METHOD:PUBLISH
X-ORIGINAL-URL:https://www.prohow.fi
X-WR-CALDESC:Tapahtumat ProHow &ndash; Kokemus k&auml;ytt&ouml;&ouml;n
REFRESH-INTERVAL;VALUE=DURATION:PT1H
X-Robots-Tag:noindex
X-PUBLISHED-TTL:PT1H
BEGIN:VTIMEZONE
TZID:Europe/Helsinki
BEGIN:DAYLIGHT
TZOFFSETFROM:+0200
TZOFFSETTO:+0300
TZNAME:EEST
DTSTART:20230326T010000
END:DAYLIGHT
BEGIN:STANDARD
TZOFFSETFROM:+0300
TZOFFSETTO:+0200
TZNAME:EET
DTSTART:20231029T010000
END:STANDARD
BEGIN:DAYLIGHT
TZOFFSETFROM:+0200
TZOFFSETTO:+0300
TZNAME:EEST
DTSTART:20240331T010000
END:DAYLIGHT
BEGIN:STANDARD
TZOFFSETFROM:+0300
TZOFFSETTO:+0200
TZNAME:EET
DTSTART:20241027T010000
END:STANDARD
BEGIN:DAYLIGHT
TZOFFSETFROM:+0200
TZOFFSETTO:+0300
TZNAME:EEST
DTSTART:20250330T010000
END:DAYLIGHT
BEGIN:STANDARD
TZOFFSETFROM:+0300
TZOFFSETTO:+0200
TZNAME:EET
DTSTART:20251026T010000
END:STANDARD
END:VTIMEZONE
BEGIN:VEVENT
DTSTART;TZID=Europe/Helsinki:20240502T100000
DTEND;TZID=Europe/Helsinki:20240502T113000
DTSTAMP:20260420T041810
CREATED:20240307T130146Z
LAST-MODIFIED:20240502T110307Z
UID:5722-1714644000-1714649400@www.prohow.fi
SUMMARY:Lintoretki Suomenojan lintualtaalle
DESCRIPTION:Tervetuloa ProHow luontoretkelle (avec) Suomenojan lintualtaalle huomenna 2.5. alkaen klo 10. \nAltaan ympäri kulkee helppokulkuinen reitti\, kävelyä tulee alle kaksi km. Alueella on kaksi lintutornia ja tauluja linnuista. Lintualtaan lajistoon kuuluvat mm. noki- ja liejukana\, mustakurkku-uikku\, lapa- ja harmaasorsa\, punasotka ja naurulokki. Lintuja näkee paljain silminkin mutta kiikari/kaukoputki helpottaa. \nKokoonnumme parkkipaikalle\, jonne on Lintutorni-viitta Suomenlahdentien kiertoliittymässä. Huom. henkilöautot vasenta haaraa. (Kaupungin antama navigointiosoite Hyljeluodontie 3 on parisataa metriä lännempänä\, G Mapsistä löytyy nimellä Suomenojan lintualtaat.) Metron Finnoon asemalta kävelyä n. 500 metriä koilliseen. Alueen kartta https://uuvi.fi/fi/kohde/finnoon-luontopolku/
URL:https://www.prohow.fi/tapahtuma/viikkokokous-638/
LOCATION:Suomenojan lintuallas
CATEGORIES:Kalenteri
END:VEVENT
END:VCALENDAR