BEGIN:VCALENDAR
VERSION:2.0
PRODID:-//ProHow &ndash; Kokemus k&auml;ytt&ouml;&ouml;n - ECPv6.15.20//NONSGML v1.0//EN
CALSCALE:GREGORIAN
METHOD:PUBLISH
X-ORIGINAL-URL:https://www.prohow.fi
X-WR-CALDESC:Tapahtumat ProHow &ndash; Kokemus k&auml;ytt&ouml;&ouml;n
REFRESH-INTERVAL;VALUE=DURATION:PT1H
X-Robots-Tag:noindex
X-PUBLISHED-TTL:PT1H
BEGIN:VTIMEZONE
TZID:Europe/Helsinki
BEGIN:DAYLIGHT
TZOFFSETFROM:+0200
TZOFFSETTO:+0300
TZNAME:EEST
DTSTART:20240331T010000
END:DAYLIGHT
BEGIN:STANDARD
TZOFFSETFROM:+0300
TZOFFSETTO:+0200
TZNAME:EET
DTSTART:20241027T010000
END:STANDARD
BEGIN:DAYLIGHT
TZOFFSETFROM:+0200
TZOFFSETTO:+0300
TZNAME:EEST
DTSTART:20250330T010000
END:DAYLIGHT
BEGIN:STANDARD
TZOFFSETFROM:+0300
TZOFFSETTO:+0200
TZNAME:EET
DTSTART:20251026T010000
END:STANDARD
BEGIN:DAYLIGHT
TZOFFSETFROM:+0200
TZOFFSETTO:+0300
TZNAME:EEST
DTSTART:20260329T010000
END:DAYLIGHT
BEGIN:STANDARD
TZOFFSETFROM:+0300
TZOFFSETTO:+0200
TZNAME:EET
DTSTART:20261025T010000
END:STANDARD
END:VTIMEZONE
BEGIN:VEVENT
DTSTART;TZID=Europe/Helsinki:20251009T100000
DTEND;TZID=Europe/Helsinki:20251009T130000
DTSTAMP:20260425T191856
CREATED:20250922T123315Z
LAST-MODIFIED:20251008T052608Z
UID:6191-1760004000-1760014800@www.prohow.fi
SUMMARY:ProHow yhteisvierailu Kiinteistömessuille
DESCRIPTION:Tällä kertaa vierailemme yhdessä Kiinteistömessuilla Helsingin messukeskuksessa.\nSisäänpääsy on ilmainen\, mutta edellyttää ennakkorekisteröitymistä. \nMessulinkki rekisteröitymistä varten: https://kiinteisto.messukeskus.com/  \nSovimme tapaavamme tavanomaiseen tapaan pääsisäänkäynnin sisäpuolella klo 10.00.
URL:https://www.prohow.fi/tapahtuma/prohow-yhteisvierailu-kiinteistomessuille/
LOCATION:Messukeskus\, Messuaukio 1\, Helsinki\, FI-00520
CATEGORIES:Kalenteri
END:VEVENT
END:VCALENDAR