BEGIN:VCALENDAR
VERSION:2.0
PRODID:-//ProHow &ndash; Kokemus k&auml;ytt&ouml;&ouml;n - ECPv6.15.20//NONSGML v1.0//EN
CALSCALE:GREGORIAN
METHOD:PUBLISH
X-WR-CALNAME:ProHow &ndash; Kokemus k&auml;ytt&ouml;&ouml;n
X-ORIGINAL-URL:https://www.prohow.fi
X-WR-CALDESC:Tapahtumat ProHow &ndash; Kokemus k&auml;ytt&ouml;&ouml;n
REFRESH-INTERVAL;VALUE=DURATION:PT1H
X-Robots-Tag:noindex
X-PUBLISHED-TTL:PT1H
BEGIN:VTIMEZONE
TZID:Europe/Helsinki
BEGIN:DAYLIGHT
TZOFFSETFROM:+0200
TZOFFSETTO:+0300
TZNAME:EEST
DTSTART:20210328T010000
END:DAYLIGHT
BEGIN:STANDARD
TZOFFSETFROM:+0300
TZOFFSETTO:+0200
TZNAME:EET
DTSTART:20211031T010000
END:STANDARD
BEGIN:DAYLIGHT
TZOFFSETFROM:+0200
TZOFFSETTO:+0300
TZNAME:EEST
DTSTART:20220327T010000
END:DAYLIGHT
BEGIN:STANDARD
TZOFFSETFROM:+0300
TZOFFSETTO:+0200
TZNAME:EET
DTSTART:20221030T010000
END:STANDARD
BEGIN:DAYLIGHT
TZOFFSETFROM:+0200
TZOFFSETTO:+0300
TZNAME:EEST
DTSTART:20230326T010000
END:DAYLIGHT
BEGIN:STANDARD
TZOFFSETFROM:+0300
TZOFFSETTO:+0200
TZNAME:EET
DTSTART:20231029T010000
END:STANDARD
END:VTIMEZONE
BEGIN:VEVENT
DTSTART;TZID=Europe/Helsinki:20220602T100000
DTEND;TZID=Europe/Helsinki:20220602T233000
DTSTAMP:20260420T020412
CREATED:20220519T114149Z
LAST-MODIFIED:20220519T114149Z
UID:5323-1654164000-1654212600@www.prohow.fi
SUMMARY:Vierailu Elisan Puhelinmuseoon
DESCRIPTION:Tällä kertaa tutustumme Elisan Puhelinmuseoon osoitteessa Runeberginkatu 43\, 00100 Helsinki.\nRakennus on valmistunut puhelinkeskukseksi vuonna 1915 ja se on on Lars Sonckin suunnittelema.  \nMuseota meille esittelee DI Jari Karpakka\, joka on pitkään työskennellyt Elisalla eri tehtävissä. \nTapaaminen klo 10.00 ym. osoitteessa.
URL:https://www.prohow.fi/tapahtuma/vierailu-elisan-puhelinmuseoon/
LOCATION:Elisan Puhelinmuseo\, Runeberginkatu 43\, Helsinki\, 00100
CATEGORIES:Kalenteri
END:VEVENT
END:VCALENDAR